BEGIN:VCALENDAR
VERSION:2.0
PRODID:-//YOGA L&#039;Isle - ECPv6.15.20//NONSGML v1.0//EN
CALSCALE:GREGORIAN
METHOD:PUBLISH
X-ORIGINAL-URL:https://yogaenluberon.com
X-WR-CALDESC:Évènements pour YOGA L&#039;Isle
REFRESH-INTERVAL;VALUE=DURATION:PT1H
X-Robots-Tag:noindex
X-PUBLISHED-TTL:PT1H
BEGIN:VTIMEZONE
TZID:Europe/Paris
BEGIN:DAYLIGHT
TZOFFSETFROM:+0100
TZOFFSETTO:+0200
TZNAME:CEST
DTSTART:20220327T010000
END:DAYLIGHT
BEGIN:STANDARD
TZOFFSETFROM:+0200
TZOFFSETTO:+0100
TZNAME:CET
DTSTART:20221030T010000
END:STANDARD
BEGIN:DAYLIGHT
TZOFFSETFROM:+0100
TZOFFSETTO:+0200
TZNAME:CEST
DTSTART:20230326T010000
END:DAYLIGHT
BEGIN:STANDARD
TZOFFSETFROM:+0200
TZOFFSETTO:+0100
TZNAME:CET
DTSTART:20231029T010000
END:STANDARD
BEGIN:DAYLIGHT
TZOFFSETFROM:+0100
TZOFFSETTO:+0200
TZNAME:CEST
DTSTART:20240331T010000
END:DAYLIGHT
BEGIN:STANDARD
TZOFFSETFROM:+0200
TZOFFSETTO:+0100
TZNAME:CET
DTSTART:20241027T010000
END:STANDARD
END:VTIMEZONE
BEGIN:VEVENT
DTSTART;TZID=Europe/Paris:20230701T190000
DTEND;TZID=Europe/Paris:20230701T190000
DTSTAMP:20260419T145513
CREATED:20230626T090742Z
LAST-MODIFIED:20230626T090756Z
UID:1702-1688238000-1688238000@yogaenluberon.com
SUMMARY:Soirée sous le tipi
DESCRIPTION:19h00 : Repas de fruit pratagés\n20h00 : Chant sous le tipi\n21h30 : Méditation couché de soleil\n22h00 : Départ en silence
URL:https://yogaenluberon.com/event/soiree-sous-le-tipi/
LOCATION:fontaine de Vaucluse\, Centre Départemental Plein Air et Loisirs du Conseil Général Route de Cavaillon\,\, Fontaine-de-Vaucluse\, 84800
ATTACH;FMTTYPE=image/jpeg:https://yogaenluberon.com/wp-content/uploads/2023/06/tipi.jpg
ORGANIZER;CN="Sylvain":MAILTO:sylvain.gauthier012@gmail.com
END:VEVENT
END:VCALENDAR